BEGIN:VCALENDAR
VERSION:2.0
PRODID:-//Naturisme - ECPv6.15.18//NONSGML v1.0//EN
CALSCALE:GREGORIAN
METHOD:PUBLISH
X-WR-CALNAME:Naturisme
X-ORIGINAL-URL:https://naturisme.be
X-WR-CALDESC:Evenementen voor Naturisme
REFRESH-INTERVAL;VALUE=DURATION:PT1H
X-Robots-Tag:noindex
X-PUBLISHED-TTL:PT1H
BEGIN:VTIMEZONE
TZID:Europe/Brussels
BEGIN:DAYLIGHT
TZOFFSETFROM:+0100
TZOFFSETTO:+0200
TZNAME:CEST
DTSTART:20240331T010000
END:DAYLIGHT
BEGIN:STANDARD
TZOFFSETFROM:+0200
TZOFFSETTO:+0100
TZNAME:CET
DTSTART:20241027T010000
END:STANDARD
BEGIN:DAYLIGHT
TZOFFSETFROM:+0100
TZOFFSETTO:+0200
TZNAME:CEST
DTSTART:20250330T010000
END:DAYLIGHT
BEGIN:STANDARD
TZOFFSETFROM:+0200
TZOFFSETTO:+0100
TZNAME:CET
DTSTART:20251026T010000
END:STANDARD
BEGIN:DAYLIGHT
TZOFFSETFROM:+0100
TZOFFSETTO:+0200
TZNAME:CEST
DTSTART:20260329T010000
END:DAYLIGHT
BEGIN:STANDARD
TZOFFSETFROM:+0200
TZOFFSETTO:+0100
TZNAME:CET
DTSTART:20261025T010000
END:STANDARD
END:VTIMEZONE
BEGIN:VEVENT
DTSTART;TZID=Europe/Brussels:20251129T173000
DTEND;TZID=Europe/Brussels:20251129T220000
DTSTAMP:20260426T051426
CREATED:20251015T202538Z
LAST-MODIFIED:20251017T075605Z
UID:10000169-1764437400-1764453600@naturisme.be
SUMMARY:FBN Zwemmen Aquapark Bellewaerde 2025
DESCRIPTION:We verwachten heel wat deelnemers op ons FBN zwemfeest te Bellewaerde Aquapark in Ieper. \nAlle voorinschrijvingen kunnen hun toegangticket afhalen aan de FBN-desk aan de ingang op vertoon van je geldige lidkaart (FBN\, NFN\, DFK\, FFN\, BN\, INF\, …..) identiteitskaart en je ticket met QR-code. Dat kan afgedrukt op papier of op je smartphone ( zonder al teveel krassen 😉 ) Elke code kan maar één keer ingescand worden\, dus zet je QR-code niet op je facebook 😉 ) \nToegang op vertoon van geldige lidkaart (FBN\, NFN\, DFK\, FFN\, BN\, INF\, …..) en identiteitskaart of als introducé vergezeld van iemand die lid is (*zie regelgeving onderaan) \nPrijzen \nVoorverkoop via de webshop: \nVolwassenen: €20\,- \nKinderen -18 jaar : Gratis mits begeleid door volwassene! \nKassa: \nVolwassenen: €25\,- \nKinderen -18 jaar : Gratis mits begeleid door volwassene! \n 
URL:https://naturisme.be/event/fbn-zwemmen-aquapark-bellewaerde-2025/
LOCATION:Bellewaerde Aquapark\, Meenseweg 497\, Ieper\, West Vlaanderen\, 8902
CATEGORIES:FBN,Zwemmen
ATTACH;FMTTYPE=image/png:https://naturisme.be/wp-content/uploads/2025/10/1.png
ORGANIZER;CN="FBN Sport":MAILTO:sport@naturisme.be
END:VEVENT
END:VCALENDAR