BEGIN:VCALENDAR
VERSION:2.0
PRODID:-//Naturisme - ECPv6.15.18//NONSGML v1.0//EN
CALSCALE:GREGORIAN
METHOD:PUBLISH
X-WR-CALNAME:Naturisme
X-ORIGINAL-URL:https://naturisme.be/fr/
X-WR-CALDESC:Évènements pour Naturisme
REFRESH-INTERVAL;VALUE=DURATION:PT1H
X-Robots-Tag:noindex
X-PUBLISHED-TTL:PT1H
BEGIN:VTIMEZONE
TZID:Europe/Brussels
BEGIN:DAYLIGHT
TZOFFSETFROM:+0100
TZOFFSETTO:+0200
TZNAME:CEST
DTSTART:20240331T010000
END:DAYLIGHT
BEGIN:STANDARD
TZOFFSETFROM:+0200
TZOFFSETTO:+0100
TZNAME:CET
DTSTART:20241027T010000
END:STANDARD
BEGIN:DAYLIGHT
TZOFFSETFROM:+0100
TZOFFSETTO:+0200
TZNAME:CEST
DTSTART:20250330T010000
END:DAYLIGHT
BEGIN:STANDARD
TZOFFSETFROM:+0200
TZOFFSETTO:+0100
TZNAME:CET
DTSTART:20251026T010000
END:STANDARD
BEGIN:DAYLIGHT
TZOFFSETFROM:+0100
TZOFFSETTO:+0200
TZNAME:CEST
DTSTART:20260329T010000
END:DAYLIGHT
BEGIN:STANDARD
TZOFFSETFROM:+0200
TZOFFSETTO:+0100
TZNAME:CET
DTSTART:20261025T010000
END:STANDARD
END:VTIMEZONE
BEGIN:VEVENT
DTSTART;TZID=Europe/Brussels:20251011T190000
DTEND;TZID=Europe/Brussels:20251011T233000
DTSTAMP:20260426T033504
CREATED:20250831T131405Z
LAST-MODIFIED:20250831T134734Z
UID:10000165-1760209200-1760225400@naturisme.be
SUMMARY:FBN Natation Lago Sint Truiden 2025
DESCRIPTION:Nous attendons de nouveau beaucoup de membre à notre évènement natation FBN au Lago Bloesemblad de Sint Truiden. \nToutes les préinscriptions seront accompagné d’un ticket boisson. Vous pouvez recuperer votre bracelet et votre ticket boisson bureau de la FBN à l’entrée sur présentation de votre carte (FBN\, NFN\, DFK\, FFN\, BN\, INF\, …..)\, de votre carte d’identité et du ticket avec le QR-code. VOus pouvez l’avoir imprimé ou sur votre Smartphone Dat kan afgedrukt op papier of op je smartphone ( sans trop de rayures 😉 ) Chaque code ne peut-être scanné que une seule fois\, donc ne publié pas votre QR-code sur votre Facebook 😉 ) \nLa partie Subtropicale et les thermes sont réservés à tout les membres (et introduits!). \nEntrée sur présentation de votre carte (FBN\, NFN\, DFK\, FFN\, BN\, INF\, …..) et de votre carte d’identité ou comme introduits accompagné de quelqu’un qui est membre (*Veuillez voir le règlement ci-dessous) \nPrix: \nPréventes via le webshop: \nAdultes: €16\,- \nIntroduits: €18\,- \nEnfants-12 ans ( aussi enfants introduits): €11\,- \nCaisse: \nAdultes: €18\,- \nIntroduits: €21\,- \nEnfants-12 ans ( aussi enfants introduits): €12\,- \n*Introduits sont autorisés uniquement en accompagnement d’une personne membre avec une carte de membres en ordre et après avoir complété le document ‘Info-introduits’. \nChaque membre peut amener un couple avec leur enfants comme introduits..
URL:https://naturisme.be/fr/event/fbn-natation-lago-sint-truiden-2025/
LOCATION:West Vlaanderen
CATEGORIES:FBN,Zwemmen
ATTACH;FMTTYPE=image/png:https://naturisme.be/wp-content/uploads/2025/08/Baignade-naturiste-11.10.2025.png
ORGANIZER;CN="FBN Sport":MAILTO:sport@naturisme.be
END:VEVENT
END:VCALENDAR