BEGIN:VCALENDAR
VERSION:2.0
PRODID:-//Naturisme - ECPv6.15.18//NONSGML v1.0//EN
CALSCALE:GREGORIAN
METHOD:PUBLISH
X-ORIGINAL-URL:https://naturisme.be
X-WR-CALDESC:Evenementen voor Naturisme
REFRESH-INTERVAL;VALUE=DURATION:PT1H
X-Robots-Tag:noindex
X-PUBLISHED-TTL:PT1H
BEGIN:VTIMEZONE
TZID:Europe/Brussels
BEGIN:DAYLIGHT
TZOFFSETFROM:+0100
TZOFFSETTO:+0200
TZNAME:CEST
DTSTART:20240331T010000
END:DAYLIGHT
BEGIN:STANDARD
TZOFFSETFROM:+0200
TZOFFSETTO:+0100
TZNAME:CET
DTSTART:20241027T010000
END:STANDARD
BEGIN:DAYLIGHT
TZOFFSETFROM:+0100
TZOFFSETTO:+0200
TZNAME:CEST
DTSTART:20250330T010000
END:DAYLIGHT
BEGIN:STANDARD
TZOFFSETFROM:+0200
TZOFFSETTO:+0100
TZNAME:CET
DTSTART:20251026T010000
END:STANDARD
BEGIN:DAYLIGHT
TZOFFSETFROM:+0100
TZOFFSETTO:+0200
TZNAME:CEST
DTSTART:20260329T010000
END:DAYLIGHT
BEGIN:STANDARD
TZOFFSETFROM:+0200
TZOFFSETTO:+0100
TZNAME:CET
DTSTART:20261025T010000
END:STANDARD
END:VTIMEZONE
BEGIN:VEVENT
DTSTART;TZID=Europe/Brussels:20251129T173000
DTEND;TZID=Europe/Brussels:20251129T220000
DTSTAMP:20260425T205304
CREATED:20251015T202538Z
LAST-MODIFIED:20251017T075605Z
UID:10000169-1764437400-1764453600@naturisme.be
SUMMARY:FBN Zwemmen Aquapark Bellewaerde 2025
DESCRIPTION:We verwachten heel wat deelnemers op ons FBN zwemfeest te Bellewaerde Aquapark in Ieper. \nAlle voorinschrijvingen kunnen hun toegangticket afhalen aan de FBN-desk aan de ingang op vertoon van je geldige lidkaart (FBN\, NFN\, DFK\, FFN\, BN\, INF\, …..) identiteitskaart en je ticket met QR-code. Dat kan afgedrukt op papier of op je smartphone ( zonder al teveel krassen 😉 ) Elke code kan maar één keer ingescand worden\, dus zet je QR-code niet op je facebook 😉 ) \nToegang op vertoon van geldige lidkaart (FBN\, NFN\, DFK\, FFN\, BN\, INF\, …..) en identiteitskaart of als introducé vergezeld van iemand die lid is (*zie regelgeving onderaan) \nPrijzen \nVoorverkoop via de webshop: \nVolwassenen: €20\,- \nKinderen -18 jaar : Gratis mits begeleid door volwassene! \nKassa: \nVolwassenen: €25\,- \nKinderen -18 jaar : Gratis mits begeleid door volwassene! \n 
URL:https://naturisme.be/event/fbn-zwemmen-aquapark-bellewaerde-2025/
LOCATION:Bellewaerde Aquapark\, Meenseweg 497\, Ieper\, West Vlaanderen\, 8902
CATEGORIES:FBN,Zwemmen
ATTACH;FMTTYPE=image/png:https://naturisme.be/wp-content/uploads/2025/10/1.png
ORGANIZER;CN="FBN Sport":MAILTO:sport@naturisme.be
END:VEVENT
BEGIN:VEVENT
DTSTART;TZID=Europe/Brussels:20251109T120000
DTEND;TZID=Europe/Brussels:20251109T170000
DTSTAMP:20260425T205304
CREATED:20250930T191435Z
LAST-MODIFIED:20250930T191436Z
UID:10000166-1762689600-1762707600@naturisme.be
SUMMARY:Bowling November 2025
DESCRIPTION:FBN BOWLEN EN LUNCH\nOp 8 en 9 november organiseren we weer een middag bowlen.\nDaarnaast kunt u genieten van een heerlijke lunch voorafgaand aan het bowlen.\nMENU :\nStoofvlees of Balletjes in tomatensaus of Vol au vent\nVolwassenen €20 / Kinderen onder 12 jaar €10\nDe lunch wordt geserveerd vanaf 12 uur.\nDEELNAME :\nVanaf 14.00 uur kan iedereen zijn beste beentje voorzetten op de bowlingbanen tot 17.00 uur.\nDeelnemen €13\nBegint om 14.00 uur Eindigt om 17.00 uur\nToegang voorbehouden aan houders van een geldige lidmaatschapskaart met het INF-zegel en je identiteitsbewijs.
URL:https://naturisme.be/event/bowling-november-2025-2/
LOCATION:Bowling THE PINZ
CATEGORIES:FBN
ATTACH;FMTTYPE=image/png:https://naturisme.be/wp-content/uploads/2025/09/Bowling-november-2025.png
ORGANIZER;CN="FBN Sport":MAILTO:sport@naturisme.be
END:VEVENT
BEGIN:VEVENT
DTSTART;TZID=Europe/Brussels:20251108T120000
DTEND;TZID=Europe/Brussels:20251108T170000
DTSTAMP:20260425T205304
CREATED:20250930T191721Z
LAST-MODIFIED:20250930T192023Z
UID:10000162-1762603200-1762621200@naturisme.be
SUMMARY:Bowling November 2025
DESCRIPTION:FBN BOWLEN EN LUNCH\nOp 8 en 9 november organiseren we weer een middag bowlen.\nDaarnaast kunt u genieten van een heerlijke lunch voorafgaand aan het bowlen.\nMENU :\nStoofvlees of Balletjes in tomatensaus of Vol au vent\nVolwassenen €20 / Kinderen onder 12 jaar €10\nDe lunch wordt geserveerd vanaf 12 uur.\nDEELNAME :\nVanaf 14.00 uur kan iedereen zijn beste beentje voorzetten op de bowlingbanen tot 17.00 uur.\nDeelnemen €13\nBegint om 14.00 uur Eindigt om 17.00 uur\nToegang voorbehouden aan houders van een geldige lidmaatschapskaart met het INF-zegel en je identiteitsbewijs.
URL:https://naturisme.be/event/bowling-november-2025/
LOCATION:Bowling THE PINZ
CATEGORIES:FBN
ATTACH;FMTTYPE=image/png:https://naturisme.be/wp-content/uploads/2025/09/Bowling-november-2025.png
ORGANIZER;CN="FBN Sport":MAILTO:sport@naturisme.be
END:VEVENT
BEGIN:VEVENT
DTSTART;TZID=Europe/Brussels:20251011T190000
DTEND;TZID=Europe/Brussels:20251011T233000
DTSTAMP:20260425T205304
CREATED:20250831T131405Z
LAST-MODIFIED:20250831T134703Z
UID:10000164-1760209200-1760225400@naturisme.be
SUMMARY:FBN Zwemmen Lago Sint Truiden 2025
DESCRIPTION:We verwachten opnieuw heel wat deelnemers op ons FBN zwemfeest te Lago Bloesemblad Sint Truiden. \nAlle voorinschrijvingen worden beloond met een drankbonnetje\, Je kan je bandje en je drankbonnetje afhalen aan de FBN-desk aan de ingang op vertoon van je geldige lidkaart (FBN\, NFN\, DFK\, FFN\, BN\, INF\, …..) identiteitskaart én je ticket met QR-code. Dat kan afgedrukt op papier of op je smartphone ( zonder al teveel krassen 😉 ) Elke code kan maar één keer ingescand worden\, dus zet je QR-code niet op je facebook 😉 ) \nHet subtropisch gedeelte en de thermen zijn afgehuurd voor alle leden (en introducé’s!). \nToegang op vertoon van geldige lidkaart (FBN\, NFN\, DFK\, FFN\, BN\, INF\, …..) en identiteitskaart of als introducé vergezeld van iemand die lid is (*zie regelgeving onderaan) \nPrijzen \nVoorverkoop via de webshop: \nVolwassenen: €16\,- \nIntroducé: €18\,- \nKinderen -12 jaar ( ook kind introducé): €11\,- \nKassa: \nVolwassenen: €18\,- \nIntroducé: €21\,- \nKinderen -12 jaar ( ook kind introducé): €12\,- \n*Introducés worden éénmalig toegelaten als ze vergezeld zijn van een aangesloten lid met geldige lidkaart en na het invullen van het document ‘Introducé-info’. \nIeder lid mag één koppel en hun kinderen meebrengen als introducé.
URL:https://naturisme.be/event/fbn-zwemmen-lago-sint-truiden-2025/
CATEGORIES:FBN,Zwemmen
ATTACH;FMTTYPE=image/png:https://naturisme.be/wp-content/uploads/2025/08/Zwemfeest-11.10.2025.png
ORGANIZER;CN="FBN Sport":MAILTO:sport@naturisme.be
END:VEVENT
END:VCALENDAR